BEGIN:VCALENDAR
VERSION:2.0
PRODID:-//demosphere.net//NONSGML kigkonsult.se iCalcreator 2.22.1//
METHOD:REQUEST
X-WR-TIMEZONE:Europe/Athens
BEGIN:VEVENT
UID:https://safe.kinimatorama.net/event/100515
DTSTAMP:20180927T170000Z
DESCRIPTION:περισσότερες πληροφορίες: https://safe.kinimatorama.net/event/1
 00515 
DTSTART:20180927T170000Z
DTEND:20180927T180000Z
GEO:+37.986125;+23.721851
LOCATION:Αθήνα\, \nΠΟΕ ΟΤΑ \nΚαρόλου 24 \n(Πλατεία Καραϊσκάκη) \n(Μετρό Μετ
 αξουργείο)
SUMMARY:Ανοιχτή εκδήλωση: Γερμανία: πολιτική & κοινωνική κατάσταση & οι τακ
 τικές της ακροδεξιάς
URL:https://safe.kinimatorama.net/event/100515
END:VEVENT
END:VCALENDAR
