BEGIN:VCALENDAR
VERSION:2.0
PRODID:-//demosphere.net//NONSGML kigkonsult.se iCalcreator 2.22.1//
METHOD:REQUEST
X-WR-TIMEZONE:Europe/Athens
BEGIN:VEVENT
UID:https://safe.kinimatorama.net/event/102448
DTSTAMP:20181115T110000Z
DESCRIPTION:περισσότερες πληροφορίες: https://safe.kinimatorama.net/event/1
 02448 
DTSTART:20181115T110000Z
DTEND:20181115T120000Z
GEO:+37.986125;+23.721851
LOCATION:Αθήνα\, \nΠΟΕ ΟΤΑ \nΚαρόλου 24 \n(Πλατεία Καραϊσκάκη) \n(Μετρό Μετ
 αξουργείο)
SUMMARY:Έκτακτη συνέντευξη Τύπου
URL:https://safe.kinimatorama.net/event/102448
END:VEVENT
END:VCALENDAR
