BEGIN:VCALENDAR
VERSION:2.0
PRODID:-//demosphere.net//NONSGML kigkonsult.se iCalcreator 2.22.1//
METHOD:REQUEST
X-WR-TIMEZONE:Europe/Athens
BEGIN:VEVENT
UID:https://safe.kinimatorama.net/event/107339
DTSTAMP:20190420T083000Z
DESCRIPTION:περισσότερες πληροφορίες: https://safe.kinimatorama.net/event/1
 07339 
DTSTART:20190420T083000Z
DTEND:20190420T093000Z
GEO:+38.039497;+23.688844
LOCATION:Πετρούπολη\, \nΠλατεία Ηρώ \nΛεωφορεία 700\,Α11\,Β11 (στάση ΔΗΜΑΡΧ
 ΕΙΟ)
SUMMARY:Πορεία: Να κλείσει η Φυλή! Όχι ΧΥΤΥ στο Μουσαμά!
URL:https://safe.kinimatorama.net/event/107339
END:VEVENT
END:VCALENDAR
