BEGIN:VCALENDAR
VERSION:2.0
PRODID:-//demosphere.net//NONSGML kigkonsult.se iCalcreator 2.22.1//
METHOD:REQUEST
X-WR-TIMEZONE:Europe/Athens
BEGIN:VEVENT
UID:https://safe.kinimatorama.net/event/107742
DTSTAMP:20190505T080000Z
DESCRIPTION:περισσότερες πληροφορίες: https://safe.kinimatorama.net/event/1
 07742 
DTSTART:20190505T080000Z
DTEND:20190505T090000Z
GEO:+38.039497;+23.688844
LOCATION:Πετρούπολη\, \nΠλατεία Ηρώ \nΛεωφορεία 700\,Α11\,Β11 (στάση ΔΗΜΑΡΧ
 ΕΙΟ)
SUMMARY:Προσυγκέντρωση για τη συμβολική κατάληψη της Γ' Φάσης του ΧΥΤΑ Φυλή
 ς
URL:https://safe.kinimatorama.net/event/107742
END:VEVENT
END:VCALENDAR
