BEGIN:VCALENDAR
VERSION:2.0
PRODID:-//demosphere.net//NONSGML kigkonsult.se iCalcreator 2.22.1//
METHOD:REQUEST
X-WR-TIMEZONE:Europe/Athens
BEGIN:VEVENT
UID:https://safe.kinimatorama.net/event/110595
DTSTAMP:20190916T090000Z
DESCRIPTION:περισσότερες πληροφορίες: https://safe.kinimatorama.net/event/1
 10595 
DTSTART:20190916T090000Z
DTEND:20190916T100000Z
GEO:+37.986125;+23.721851
LOCATION:Αθήνα\, \nΠΟΕ ΟΤΑ \nΚαρόλου 24 \n(Πλατεία Καραϊσκάκη) \n(Μετρό Μετ
 αξουργείο)
SUMMARY:Συνέντευξη Τύπου του Δυτικού Μετώπου
URL:https://safe.kinimatorama.net/event/110595
END:VEVENT
END:VCALENDAR
