BEGIN:VCALENDAR
VERSION:2.0
PRODID:-//demosphere.net//NONSGML kigkonsult.se iCalcreator 2.22.1//
METHOD:REQUEST
X-WR-TIMEZONE:Europe/Athens
BEGIN:VEVENT
UID:https://safe.kinimatorama.net/event/110981
DTSTAMP:20190925T123000Z
DESCRIPTION:περισσότερες πληροφορίες: https://safe.kinimatorama.net/event/1
 10981 
DTSTART:20190925T123000Z
DTEND:20190925T133000Z
GEO:+35.512376;+24.019161
LOCATION:Χανιά\, \nδημαρχείο Χανίων \nΚυδωνίας 29
SUMMARY:Κάλεσμα για διεκδίκηση του δημόσιου χώρου στην πρώην ΑΒΕΑ
URL:https://safe.kinimatorama.net/event/110981
END:VEVENT
END:VCALENDAR
