BEGIN:VCALENDAR
VERSION:2.0
PRODID:-//demosphere.net//NONSGML kigkonsult.se iCalcreator 2.22.1//
METHOD:REQUEST
X-WR-TIMEZONE:Europe/Athens
BEGIN:VEVENT
UID:https://safe.kinimatorama.net/event/11194
DTSTAMP:20110614T160000Z
DESCRIPTION:περισσότερες πληροφορίες: https://safe.kinimatorama.net/event/1
 1194 
DTSTART:20110614T160000Z
DTEND:20110614T170000Z
GEO:+38.039497;+23.688844
LOCATION:Πετρούπολη\, \nΠλατεία Ηρώ \nΛεωφορεία 700\,Α11\,Β11 (στάση ΔΗΜΑΡΧ
 ΕΙΟ)
SUMMARY:Συνέλευση Πετρούπολης
URL:https://safe.kinimatorama.net/event/11194
END:VEVENT
END:VCALENDAR
