BEGIN:VCALENDAR
VERSION:2.0
PRODID:-//demosphere.net//NONSGML kigkonsult.se iCalcreator 2.22.1//
METHOD:REQUEST
X-WR-TIMEZONE:Europe/Athens
BEGIN:VEVENT
UID:https://safe.kinimatorama.net/event/114244
DTSTAMP:20191218T130000Z
DESCRIPTION:περισσότερες πληροφορίες: https://safe.kinimatorama.net/event/1
 14244 
DTSTART:20191218T130000Z
DTEND:20191218T140000Z
GEO:+35.512376;+24.019161
LOCATION:Χανιά\, \nδημαρχείο Χανίων \nΚυδωνίας 29
SUMMARY:Κάλεσμα για το θέμα της προσπάθειας ξενοδοχοποίησης στο Λόφο Καστέλ
 ι
URL:https://safe.kinimatorama.net/event/114244
END:VEVENT
END:VCALENDAR
