BEGIN:VCALENDAR
VERSION:2.0
PRODID:-//demosphere.net//NONSGML kigkonsult.se iCalcreator 2.22.1//
METHOD:REQUEST
X-WR-TIMEZONE:Europe/Athens
BEGIN:VEVENT
UID:https://safe.kinimatorama.net/event/120524
DTSTAMP:20200907T060000Z
DESCRIPTION:περισσότερες πληροφορίες: https://safe.kinimatorama.net/event/1
 20524 
DTSTART:20200907T060000Z
DTEND:20200907T070000Z
GEO:+35.512376;+24.019161
LOCATION:Χανιά\, \nδημαρχείο Χανίων \nΚυδωνίας 29
SUMMARY:Συγκέντρωση αλληλεγγύης στην Rosa Nera
URL:https://safe.kinimatorama.net/event/120524
END:VEVENT
END:VCALENDAR
