BEGIN:VCALENDAR
VERSION:2.0
PRODID:-//demosphere.net//NONSGML kigkonsult.se iCalcreator 2.22.1//
METHOD:REQUEST
X-WR-TIMEZONE:Europe/Athens
BEGIN:VEVENT
UID:https://safe.kinimatorama.net/event/126349
DTSTAMP:20210529T083000Z
DESCRIPTION:περισσότερες πληροφορίες: https://safe.kinimatorama.net/event/1
 26349 
DTSTART:20210529T083000Z
DTEND:20210529T093000Z
GEO:+38.039497;+23.688844
LOCATION:Πετρούπολη\, \nΠλατεία Ηρώ \nΛεωφορεία 700\,Α11\,Β11 (στάση ΔΗΜΑΡΧ
 ΕΙΟ)
SUMMARY:Πορεία για την πανελλαδική μέρα δράσης κατά της καύσης απορριμμάτων
URL:https://safe.kinimatorama.net/event/126349
END:VEVENT
END:VCALENDAR
