BEGIN:VCALENDAR
VERSION:2.0
PRODID:-//demosphere.net//NONSGML kigkonsult.se iCalcreator 2.22.1//
METHOD:REQUEST
X-WR-TIMEZONE:Europe/Athens
BEGIN:VEVENT
UID:https://safe.kinimatorama.net/event/135748
DTSTAMP:20220319T143000Z
DESCRIPTION:περισσότερες πληροφορίες: https://safe.kinimatorama.net/event/1
 35748 
DTSTART:20220319T143000Z
DTEND:20220319T153000Z
GEO:+38.039497;+23.688844
LOCATION:Πετρούπολη\, \nΠλατεία Ηρώ \nΛεωφορεία 700\,Α11\,Β11 (στάση ΔΗΜΑΡΧ
 ΕΙΟ)
SUMMARY:Μικροφωνική/συγκέντρωση διαμαρτυρίας ενάντια σε ομοφοβική επίθεση
URL:https://safe.kinimatorama.net/event/135748
END:VEVENT
END:VCALENDAR
