BEGIN:VCALENDAR
VERSION:2.0
PRODID:-//demosphere.net//NONSGML kigkonsult.se iCalcreator 2.22.1//
METHOD:REQUEST
X-WR-TIMEZONE:Europe/Athens
BEGIN:VEVENT
UID:https://safe.kinimatorama.net/event/144871
DTSTAMP:20221127T163000Z
DESCRIPTION:περισσότερες πληροφορίες: https://safe.kinimatorama.net/event/1
 44871 
DTSTART:20221127T163000Z
DTEND:20221127T173000Z
GEO:+37.977942;+23.715532
LOCATION:Αθήνα\, \nπαλιο Αμαξοστάσιο \nΕρμού και Πειραιώς \n(πλησίον σταθμώ
 ν ΘΗΣΕΙΟ και ΚΕΡΑΜΕΙΚΟΣ)
SUMMARY:Live οικονομικής ενίσχυσης με los tre\, αγια φανφαρα και dj bwana
URL:https://safe.kinimatorama.net/event/144871
END:VEVENT
END:VCALENDAR
