BEGIN:VCALENDAR
VERSION:2.0
PRODID:-//demosphere.net//NONSGML kigkonsult.se iCalcreator 2.22.1//
METHOD:REQUEST
X-WR-TIMEZONE:Europe/Athens
BEGIN:VEVENT
UID:https://safe.kinimatorama.net/event/146792
DTSTAMP:20230110T133000Z
DESCRIPTION:περισσότερες πληροφορίες: https://safe.kinimatorama.net/event/1
 46792 
DTSTART:20230110T133000Z
DTEND:20230110T143000Z
GEO:+35.512376;+24.019161
LOCATION:Χανιά\, \nδημαρχείο Χανίων \nΚυδωνίας 29
SUMMARY:Κάλεσμα στο Δημαρχείο Χανίων
URL:https://safe.kinimatorama.net/event/146792
END:VEVENT
END:VCALENDAR
