BEGIN:VCALENDAR
VERSION:2.0
PRODID:-//demosphere.net//NONSGML kigkonsult.se iCalcreator 2.22.1//
METHOD:REQUEST
X-WR-TIMEZONE:Europe/Athens
BEGIN:VEVENT
UID:https://safe.kinimatorama.net/event/148122
DTSTAMP:20230215T133000Z
DESCRIPTION:περισσότερες πληροφορίες: https://safe.kinimatorama.net/event/1
 48122 
DTSTART:20230215T133000Z
DTEND:20230215T143000Z
GEO:+35.512376;+24.019161
LOCATION:Χανιά\, \nδημαρχείο Χανίων \nΚυδωνίας 29
SUMMARY:Κάλεσμα για τη Φαλάσαρνα
URL:https://safe.kinimatorama.net/event/148122
END:VEVENT
END:VCALENDAR
