BEGIN:VCALENDAR
VERSION:2.0
PRODID:-//demosphere.net//NONSGML kigkonsult.se iCalcreator 2.22.1//
METHOD:REQUEST
X-WR-TIMEZONE:Europe/Athens
BEGIN:VEVENT
UID:https://safe.kinimatorama.net/event/151687
DTSTAMP:20230501T070000Z
DESCRIPTION:περισσότερες πληροφορίες: https://safe.kinimatorama.net/event/1
 51687 
DTSTART:20230501T070000Z
DTEND:20230501T080000Z
GEO:+35.512376;+24.019161
LOCATION:Χανιά\, \nδημαρχείο Χανίων \nΚυδωνίας 29
SUMMARY:Απεργιακή διαδήλωση
URL:https://safe.kinimatorama.net/event/151687
END:VEVENT
END:VCALENDAR
