BEGIN:VCALENDAR
VERSION:2.0
PRODID:-//demosphere.net//NONSGML kigkonsult.se iCalcreator 2.22.1//
METHOD:REQUEST
X-WR-TIMEZONE:Europe/Athens
BEGIN:VEVENT
UID:https://safe.kinimatorama.net/event/16143
DTSTAMP:20120110T133000Z
DESCRIPTION:περισσότερες πληροφορίες: https://safe.kinimatorama.net/event/1
 6143 
DTSTART:20120110T133000Z
DTEND:20120110T143000Z
GEO:+35.512376;+24.019161
LOCATION:Χανιά\, \nδημαρχείο Χανίων \nΚυδωνίας 29
SUMMARY:Παράσταση διαμαρτυρίας στο Δημοτικό συμβούλιο
URL:https://safe.kinimatorama.net/event/16143
END:VEVENT
END:VCALENDAR
