BEGIN:VCALENDAR
VERSION:2.0
PRODID:-//demosphere.net//NONSGML kigkonsult.se iCalcreator 2.22.1//
METHOD:REQUEST
X-WR-TIMEZONE:Europe/Athens
BEGIN:VEVENT
UID:https://safe.kinimatorama.net/event/172337
DTSTAMP:20241218T130000Z
DESCRIPTION:περισσότερες πληροφορίες: https://safe.kinimatorama.net/event/1
 72337 
DTSTART:20241218T130000Z
DTEND:20241218T140000Z
GEO:+35.512376;+24.019161
LOCATION:Χανιά\, \nδημαρχείο Χανίων \nΚυδωνίας 29
SUMMARY:Ανοιχτο καλεσμα διεκδικησης για το πρωην στρατοπεδο Μαρκοπουλου
URL:https://safe.kinimatorama.net/event/172337
END:VEVENT
END:VCALENDAR
