BEGIN:VCALENDAR
VERSION:2.0
PRODID:-//demosphere.net//NONSGML kigkonsult.se iCalcreator 2.22.1//
METHOD:REQUEST
X-WR-TIMEZONE:Europe/Athens
BEGIN:VEVENT
UID:https://safe.kinimatorama.net/event/176190
DTSTAMP:20250409T123000Z
DESCRIPTION:περισσότερες πληροφορίες: https://safe.kinimatorama.net/event/1
 76190 
DTSTART:20250409T123000Z
DTEND:20250409T133000Z
GEO:+35.512376;+24.019161
LOCATION:Χανιά\, \nδημαρχείο Χανίων \nΚυδωνίας 29
SUMMARY:Παρέμβαση στο Δημοτικό συμβούλιο Χανίων
URL:https://safe.kinimatorama.net/event/176190
END:VEVENT
END:VCALENDAR
