BEGIN:VCALENDAR
VERSION:2.0
PRODID:-//demosphere.net//NONSGML kigkonsult.se iCalcreator 2.22.1//
METHOD:REQUEST
X-WR-TIMEZONE:Europe/Athens
BEGIN:VEVENT
UID:https://safe.kinimatorama.net/event/182500
DTSTAMP:20251023T150000Z
DESCRIPTION:περισσότερες πληροφορίες: https://safe.kinimatorama.net/event/1
 82500 
DTSTART:20251023T150000Z
DTEND:20251023T160000Z
GEO:+37.993043;+23.763707
LOCATION:Αθήνα\, \nπλατεία Κανελλόπουλου \n(σταθμός Μετρό Πανόρμου)
SUMMARY:Συγκέντρωση διαμαρτυρίας και πορεία για το Μητροπολιτικό Πάρκο Γουδ
 ή
URL:https://safe.kinimatorama.net/event/182500
END:VEVENT
END:VCALENDAR
