BEGIN:VCALENDAR
VERSION:2.0
PRODID:-//demosphere.net//NONSGML kigkonsult.se iCalcreator 2.22.1//
METHOD:REQUEST
X-WR-TIMEZONE:Europe/Athens
BEGIN:VEVENT
UID:https://safe.kinimatorama.net/event/187743
DTSTAMP:20260309T160000Z
DESCRIPTION:περισσότερες πληροφορίες: https://safe.kinimatorama.net/event/1
 87743 
DTSTART:20260309T160000Z
DTEND:20260309T170000Z
GEO:+40.638356;+22.944316
LOCATION:Θεσσαλονίκη\, \nΕλευθεριακός χώρος Sabot \nΓκαρμπολά 2 \nΜπιτ Παζά
 ρ
SUMMARY:Ανοιχτή Συνέλευση Ταμείου Αλληλεγγύης Φυλακισμένων Και Διωκόμενων Α
 γωνιστών
URL:https://safe.kinimatorama.net/event/187743
END:VEVENT
END:VCALENDAR
