BEGIN:VCALENDAR
VERSION:2.0
PRODID:-//demosphere.net//NONSGML kigkonsult.se iCalcreator 2.22.1//
METHOD:REQUEST
X-WR-TIMEZONE:Europe/Athens
BEGIN:VEVENT
UID:https://safe.kinimatorama.net/event/187753
DTSTAMP:20260313T190000Z
DESCRIPTION:περισσότερες πληροφορίες: https://safe.kinimatorama.net/event/1
 87753 
DTSTART:20260313T190000Z
DTEND:20260313T200000Z
GEO:+37.986998;+23.735677
LOCATION:Αθήνα\, \nEλεύθερος Kοινωνικός Xώρος «αλτάι» \nΘεμιστοκλέους 65 \n
 Εξάρχεια
SUMMARY:Εlectronic Night Party
URL:https://safe.kinimatorama.net/event/187753
END:VEVENT
END:VCALENDAR
