BEGIN:VCALENDAR
VERSION:2.0
PRODID:-//demosphere.net//NONSGML kigkonsult.se iCalcreator 2.22.1//
METHOD:REQUEST
X-WR-TIMEZONE:Europe/Athens
BEGIN:VEVENT
UID:https://safe.kinimatorama.net/event/187761
DTSTAMP:20260308T170000Z
DESCRIPTION:περισσότερες πληροφορίες: https://safe.kinimatorama.net/event/1
 87761 
DTSTART:20260308T170000Z
DTEND:20260308T180000Z
GEO:+41.13872;+24.8857
LOCATION:Ξάνθη\, \nΡωγμή \nΜ. Βόγδου 20\, 4ος όροφος \n(έναντι δικαστηρίων)
SUMMARY:Εκδήλωση για το γυναικείο ζήτημα
URL:https://safe.kinimatorama.net/event/187761
END:VEVENT
END:VCALENDAR
