BEGIN:VCALENDAR
VERSION:2.0
PRODID:-//demosphere.net//NONSGML kigkonsult.se iCalcreator 2.22.1//
METHOD:REQUEST
X-WR-TIMEZONE:Europe/Athens
BEGIN:VEVENT
UID:https://safe.kinimatorama.net/event/187785
DTSTAMP:20260305T173000Z
DESCRIPTION:περισσότερες πληροφορίες: https://safe.kinimatorama.net/event/1
 87785 
DTSTART:20260305T173000Z
DTEND:20260305T183000Z
GEO:+41.135488;+24.888493
LOCATION:Ξάνθη\, \nXanadu \nΚουγιουμτζόγλου & 12 Αποστόλων
SUMMARY:Ανοιχτή συνέλευση για την οργάνωση δράσεων εν όψει 8ης Μάρτη
URL:https://safe.kinimatorama.net/event/187785
END:VEVENT
END:VCALENDAR
