BEGIN:VCALENDAR
VERSION:2.0
PRODID:-//demosphere.net//NONSGML kigkonsult.se iCalcreator 2.22.1//
METHOD:REQUEST
X-WR-TIMEZONE:Europe/Athens
BEGIN:VEVENT
UID:https://safe.kinimatorama.net/event/188674
DTSTAMP:20260324T153000Z
DESCRIPTION:περισσότερες πληροφορίες: https://safe.kinimatorama.net/event/1
 88674 
DTSTART:20260324T153000Z
DTEND:20260324T163000Z
GEO:+38.248304;+21.738623
LOCATION:Πάτρα\, \nΚατάληψη Παραρτήματος \n(Παράρτημα) \nΚορίνθου και Αράτο
 υ
SUMMARY:2η συνέλευση εν όψει της επετείου του Stonewall
URL:https://safe.kinimatorama.net/event/188674
END:VEVENT
END:VCALENDAR
