BEGIN:VCALENDAR
VERSION:2.0
PRODID:-//demosphere.net//NONSGML kigkonsult.se iCalcreator 2.22.1//
METHOD:REQUEST
X-WR-TIMEZONE:Europe/Athens
BEGIN:VEVENT
UID:https://safe.kinimatorama.net/event/188864
DTSTAMP:20260326T180000Z
DESCRIPTION:περισσότερες πληροφορίες: https://safe.kinimatorama.net/event/1
 88864 
DTSTART:20260326T180000Z
DTEND:20260326T190000Z
GEO:+41.135488;+24.888493
LOCATION:Ξάνθη\, \nXanadu \nΚουγιουμτζόγλου & 12 Αποστόλων
SUMMARY:Ανοιχτή συνέλευση της αντιπολεμικής πρωτοβουλίας
URL:https://safe.kinimatorama.net/event/188864
END:VEVENT
END:VCALENDAR
