BEGIN:VCALENDAR
VERSION:2.0
PRODID:-//demosphere.net//NONSGML kigkonsult.se iCalcreator 2.22.1//
METHOD:REQUEST
X-WR-TIMEZONE:Europe/Athens
BEGIN:VEVENT
UID:https://safe.kinimatorama.net/event/189286
DTSTAMP:20260403T190000Z
DESCRIPTION:περισσότερες πληροφορίες: https://safe.kinimatorama.net/event/1
 89286 
DTSTART:20260403T190000Z
DTEND:20260403T200000Z
GEO:+35.341459;+25.132416
LOCATION:Ηράκλειο\, \nΚατάληψη Ευαγγελισμού \nΘεοτοκοπούλου 18
SUMMARY:Αυτοδιαχειριζόμενο καφενείο/bar για την οικονομική ενίσχυση της Κατ
 άληψης
URL:https://safe.kinimatorama.net/event/189286
END:VEVENT
END:VCALENDAR
