BEGIN:VCALENDAR
VERSION:2.0
PRODID:-//demosphere.net//NONSGML kigkonsult.se iCalcreator 2.22.1//
METHOD:REQUEST
X-WR-TIMEZONE:Europe/Athens
BEGIN:VEVENT
UID:https://safe.kinimatorama.net/event/189545
DTSTAMP:20260417T160000Z
DESCRIPTION:περισσότερες πληροφορίες: https://safe.kinimatorama.net/event/1
 89545 
DTSTART:20260417T160000Z
DTEND:20260417T170000Z
GEO:+37.976143;+23.725976
LOCATION:Αθήνα\, \nΣταθμός ΗΣΑΠ Μοναστηράκι
SUMMARY:Συγκέντρωση ενάντια στη σιωνιστική τρομοκρατία στις γειτονιές και τ
 ις ζωές μας
URL:https://safe.kinimatorama.net/event/189545
END:VEVENT
END:VCALENDAR
