BEGIN:VCALENDAR
VERSION:2.0
PRODID:-//demosphere.net//NONSGML kigkonsult.se iCalcreator 2.22.1//
METHOD:REQUEST
X-WR-TIMEZONE:Europe/Athens
BEGIN:VEVENT
UID:https://safe.kinimatorama.net/event/189608
DTSTAMP:20260419T140000Z
DESCRIPTION:περισσότερες πληροφορίες: https://safe.kinimatorama.net/event/1
 89608 
DTSTART:20260419T140000Z
DTEND:20260419T150000Z
GEO:+40.640383;+22.951035
LOCATION:Θεσσαλονίκη\, \nΚοινωνικό Κέντρο '9 Μάη' \nΝαυπάκτου 3\, Άνω πόλη
SUMMARY:Mπαρ οικονομικής ενίσχυσης της κοινωνικής κουζίνας του «9 Μάη»
URL:https://safe.kinimatorama.net/event/189608
END:VEVENT
END:VCALENDAR
