BEGIN:VCALENDAR
VERSION:2.0
PRODID:-//demosphere.net//NONSGML kigkonsult.se iCalcreator 2.22.1//
METHOD:REQUEST
X-WR-TIMEZONE:Europe/Athens
BEGIN:VEVENT
UID:https://safe.kinimatorama.net/event/189613
DTSTAMP:20260420T070000Z
DESCRIPTION:περισσότερες πληροφορίες: https://safe.kinimatorama.net/event/1
 89613 
DTSTART:20260420T070000Z
DTEND:20260420T080000Z
GEO:+37.995376;+23.743086
LOCATION:Αθήνα\, \nΔικαστήρια Ευελπίδων
SUMMARY:Συγκέντρωση αλληλεγγύης στους/ις συλληφθέντες/είσες της διαδήλωσης 
 6/12/25
URL:https://safe.kinimatorama.net/event/189613
END:VEVENT
END:VCALENDAR
