BEGIN:VCALENDAR
VERSION:2.0
PRODID:-//demosphere.net//NONSGML kigkonsult.se iCalcreator 2.22.1//
METHOD:REQUEST
X-WR-TIMEZONE:Europe/Athens
BEGIN:VEVENT
UID:https://safe.kinimatorama.net/event/189639
DTSTAMP:20260420T160000Z
DESCRIPTION:περισσότερες πληροφορίες: https://safe.kinimatorama.net/event/1
 89639 
DTSTART:20260420T160000Z
DTEND:20260420T170000Z
GEO:+37.994079;+23.732083
LOCATION:Αθήνα\, \nΑΣΟΕΕ \nΠατησίων 76 (28ης Οκτωβρίου) \n(πλησίον σταθμού 
 ΗΣΑΠ Βικτώρια)
SUMMARY:Επόμενη συνέλευση αλληλεγγύης στον αγωνιστή Άκη Δημακόπουλο
URL:https://safe.kinimatorama.net/event/189639
END:VEVENT
END:VCALENDAR
