BEGIN:VCALENDAR
VERSION:2.0
PRODID:-//demosphere.net//NONSGML kigkonsult.se iCalcreator 2.22.1//
METHOD:REQUEST
X-WR-TIMEZONE:Europe/Athens
BEGIN:VEVENT
UID:https://safe.kinimatorama.net/event/189640
DTSTAMP:20260422T060000Z
DESCRIPTION:περισσότερες πληροφορίες: https://safe.kinimatorama.net/event/1
 89640 
DTSTART:20260422T060000Z
DTEND:20260422T070000Z
GEO:+38.244158;+21.732406
LOCATION:Πάτρα\, \nΔικαστήρια Πάτρας \nΓούναρη
SUMMARY:Συγκέντρωση αλληλεγγύης στο συλληφθέντα της εκπαιδευτικής διαδήλωση
 ς της 22/2/24
URL:https://safe.kinimatorama.net/event/189640
END:VEVENT
END:VCALENDAR
