BEGIN:VCALENDAR
VERSION:2.0
PRODID:-//demosphere.net//NONSGML kigkonsult.se iCalcreator 2.22.1//
METHOD:REQUEST
X-WR-TIMEZONE:Europe/Athens
BEGIN:VEVENT
UID:https://safe.kinimatorama.net/event/189642
DTSTAMP:20260420T173000Z
DESCRIPTION:περισσότερες πληροφορίες: https://safe.kinimatorama.net/event/1
 89642 
DTSTART:20260420T173000Z
DTEND:20260420T183000Z
LOCATION:Καρδίτσα\, \nάγνωστη τοποθεσία\, \nΚαρδίτσα
SUMMARY:Συνέλευση Αυτοδιαχειριζόμενου Στεκιού Καρδίτσας
URL:https://safe.kinimatorama.net/event/189642
END:VEVENT
END:VCALENDAR
