BEGIN:VCALENDAR
VERSION:2.0
PRODID:-//demosphere.net//NONSGML kigkonsult.se iCalcreator 2.22.1//
METHOD:REQUEST
X-WR-TIMEZONE:Europe/Athens
BEGIN:VEVENT
UID:https://safe.kinimatorama.net/event/189644
DTSTAMP:20260419T163000Z
DESCRIPTION:περισσότερες πληροφορίες: https://safe.kinimatorama.net/event/1
 89644 
DTSTART:20260419T163000Z
DTEND:20260419T173000Z
GEO:+35.341459;+25.132416
LOCATION:Ηράκλειο\, \nΚατάληψη Ευαγγελισμού \nΘεοτοκοπούλου 18
SUMMARY:Προβολή της ταινίας Soylent green & χαριστικό παζάρι
URL:https://safe.kinimatorama.net/event/189644
END:VEVENT
END:VCALENDAR
