BEGIN:VCALENDAR
VERSION:2.0
PRODID:-//demosphere.net//NONSGML kigkonsult.se iCalcreator 2.22.1//
METHOD:REQUEST
X-WR-TIMEZONE:Europe/Athens
BEGIN:VEVENT
UID:https://safe.kinimatorama.net/event/189646
DTSTAMP:20260425T153000Z
DESCRIPTION:περισσότερες πληροφορίες: https://safe.kinimatorama.net/event/1
 89646 
DTSTART:20260425T153000Z
DTEND:20260425T163000Z
GEO:+37.988017;+23.754557
LOCATION:Αθήνα\, \nκιόσκι Κατειλημμένων Προσφυγικών \nΛ. Αλεξάνδρας & Αριστ
 οτέλους Κουζή \nKioski of Prosfygika\, Kouzi & Vegoritidos\, \n(πλησίον στ
 αθμού Μετρό ΑΜΠΕΛΟΚΗΠΟΙ)
SUMMARY:Συλλογικό Καφενείο | Collective Cafe
URL:https://safe.kinimatorama.net/event/189646
END:VEVENT
END:VCALENDAR
