BEGIN:VCALENDAR
VERSION:2.0
PRODID:-//demosphere.net//NONSGML kigkonsult.se iCalcreator 2.22.1//
METHOD:REQUEST
X-WR-TIMEZONE:Europe/Athens
BEGIN:VEVENT
UID:https://safe.kinimatorama.net/event/189663
DTSTAMP:20260421T140000Z
DESCRIPTION:περισσότερες πληροφορίες: https://safe.kinimatorama.net/event/1
 89663 
DTSTART:20260421T140000Z
DTEND:20260421T150000Z
GEO:+37.994079;+23.732083
LOCATION:Αθήνα\, \nΑΣΟΕΕ \nΠατησίων 76 (28ης Οκτωβρίου) \n(πλησίον σταθμού 
 ΗΣΑΠ Βικτώρια)
SUMMARY:Ανοιχτή συνέλευση της Πρωτοβουλίας Αναρχικών Φοιτητών/-τριών Αθήνας
URL:https://safe.kinimatorama.net/event/189663
END:VEVENT
END:VCALENDAR
