BEGIN:VCALENDAR
VERSION:2.0
PRODID:-//demosphere.net//NONSGML kigkonsult.se iCalcreator 2.22.1//
METHOD:REQUEST
X-WR-TIMEZONE:Europe/Athens
BEGIN:VEVENT
UID:https://safe.kinimatorama.net/event/189664
DTSTAMP:20260420T190000Z
DESCRIPTION:περισσότερες πληροφορίες: https://safe.kinimatorama.net/event/1
 89664 
DTSTART:20260420T190000Z
DTEND:20260420T200000Z
GEO:+38.253313;+21.740527
LOCATION:Πάτρα\, \nΠλατεία Νόρμαν
SUMMARY:DIY ΘΕΡΙΝΟΣ ΣΙΝΕΜΑΣ
URL:https://safe.kinimatorama.net/event/189664
END:VEVENT
END:VCALENDAR
