BEGIN:VCALENDAR
VERSION:2.0
PRODID:-//demosphere.net//NONSGML kigkonsult.se iCalcreator 2.22.1//
METHOD:REQUEST
X-WR-TIMEZONE:Europe/Athens
BEGIN:VEVENT
UID:https://safe.kinimatorama.net/event/189676
DTSTAMP:20260425T150000Z
DESCRIPTION:περισσότερες πληροφορίες: https://safe.kinimatorama.net/event/1
 89676 
DTSTART:20260425T150000Z
DTEND:20260425T160000Z
GEO:+38.043798;+23.753517
LOCATION:Νέα Ιωνία\, \nΔημοτικός κινηματογράφος Ν.Ιωνίας 'Αστέρας' \nΑσκληπ
 ιού 4 \n(5' περπάτημα από σταθμό ΗΣΑΠ Νέας Ιωνίας)
SUMMARY:Ημέρα Αλληλεγγύης στην Παλαιστίνη
URL:https://safe.kinimatorama.net/event/189676
END:VEVENT
END:VCALENDAR
