BEGIN:VCALENDAR
VERSION:2.0
PRODID:-//demosphere.net//NONSGML kigkonsult.se iCalcreator 2.22.1//
METHOD:REQUEST
X-WR-TIMEZONE:Europe/Athens
BEGIN:VEVENT
UID:https://safe.kinimatorama.net/event/189678
DTSTAMP:20260420T170000Z
DESCRIPTION:περισσότερες πληροφορίες: https://safe.kinimatorama.net/event/1
 89678 
DTSTART:20260420T170000Z
DTEND:20260420T180000Z
GEO:+39.608422;+19.920036
LOCATION:Κέρκυρα\, \nΚατάληψη Ελαία \nΙνστιτούτο ελαίας \nΔαίρπφελδ & Αγίων
  Θεοδώρων \nΜον Ρεπό \nΓαρίτσα
SUMMARY:Αναρρίχηση
URL:https://safe.kinimatorama.net/event/189678
END:VEVENT
END:VCALENDAR
