BEGIN:VCALENDAR
VERSION:2.0
PRODID:-//demosphere.net//NONSGML kigkonsult.se iCalcreator 2.22.1//
METHOD:REQUEST
X-WR-TIMEZONE:Europe/Athens
BEGIN:VEVENT
UID:https://safe.kinimatorama.net/event/189680
DTSTAMP:20260501T080000Z
DESCRIPTION:περισσότερες πληροφορίες: https://safe.kinimatorama.net/event/1
 89680 
DTSTART:20260501T080000Z
DTEND:20260501T090000Z
GEO:+37.982574;+23.729213
LOCATION:Αθήνα\, \nΧαυτεία \nΣταδίου & Αιόλου \n(1' περπάτημα από σταθμό ΟΜ
 ΟΝΟΙΑ)
SUMMARY:Απεργιακή συγκέντρωση 1η Μάη 2026
URL:https://safe.kinimatorama.net/event/189680
END:VEVENT
END:VCALENDAR
