BEGIN:VCALENDAR
VERSION:2.0
PRODID:-//demosphere.net//NONSGML kigkonsult.se iCalcreator 2.22.1//
METHOD:REQUEST
X-WR-TIMEZONE:Europe/Athens
BEGIN:VEVENT
UID:https://safe.kinimatorama.net/event/189682
DTSTAMP:20260422T050000Z
DESCRIPTION:περισσότερες πληροφορίες: https://safe.kinimatorama.net/event/1
 89682 
DTSTART:20260422T050000Z
DTEND:20260422T060000Z
LOCATION:Αθήνα\, \nΣυμβούλιο της Επικράτειας\, Πανεπιστημίου 47/49
SUMMARY:Συγκέντρωση εν όψει της εκδίκασης των αιτήσεων ακύρωσης εξορύξεων α
 ντιμονίου
URL:https://safe.kinimatorama.net/event/189682
END:VEVENT
END:VCALENDAR
