BEGIN:VCALENDAR
VERSION:2.0
PRODID:-//demosphere.net//NONSGML kigkonsult.se iCalcreator 2.22.1//
METHOD:REQUEST
X-WR-TIMEZONE:Europe/Athens
BEGIN:VEVENT
UID:https://safe.kinimatorama.net/event/189685
DTSTAMP:20260605T170000Z
DESCRIPTION:περισσότερες πληροφορίες: https://safe.kinimatorama.net/event/1
 89685 
DTSTART:20260605T170000Z
DTEND:20260605T180000Z
GEO:+37.959874;+23.719037
LOCATION:Καλλιθέα\, \nΠάντειο Πανεπιστήμιο \nΛ. Συγγρού 136
SUMMARY:Punk live οικονομικής ενίσχυσης σχηματος
URL:https://safe.kinimatorama.net/event/189685
END:VEVENT
END:VCALENDAR
