BEGIN:VCALENDAR
VERSION:2.0
PRODID:-//demosphere.net//NONSGML kigkonsult.se iCalcreator 2.22.1//
METHOD:REQUEST
X-WR-TIMEZONE:Europe/Athens
BEGIN:VEVENT
UID:https://safe.kinimatorama.net/event/189686
DTSTAMP:20260424T130000Z
DESCRIPTION:περισσότερες πληροφορίες: https://safe.kinimatorama.net/event/1
 89686 
DTSTART:20260424T130000Z
DTEND:20260424T140000Z
GEO:+40.632845;+22.955744
LOCATION:Θεσσαλονίκη\, \nΠλατεία Χημείου \nΑΠΘ
SUMMARY:Αθλοπαιδιες\, συλλογική κουζίνα και μπαζάρ πολιτικού υλικού
URL:https://safe.kinimatorama.net/event/189686
END:VEVENT
END:VCALENDAR
