BEGIN:VCALENDAR
VERSION:2.0
PRODID:-//demosphere.net//NONSGML kigkonsult.se iCalcreator 2.22.1//
METHOD:REQUEST
X-WR-TIMEZONE:Europe/Athens
BEGIN:VEVENT
UID:https://safe.kinimatorama.net/event/189688
DTSTAMP:20260423T160000Z
DESCRIPTION:περισσότερες πληροφορίες: https://safe.kinimatorama.net/event/1
 89688 
DTSTART:20260423T160000Z
DTEND:20260423T170000Z
GEO:+38.020706;+23.734635
LOCATION:Αθήνα\, \nΧώρος Κίνησης Αλληλεγγύης Πατησίων \nΤσίλλερ 59
SUMMARY:Ανοιχτή Συνέλευση Υπεράσπισης Πάρκου Δρακόπουλου
URL:https://safe.kinimatorama.net/event/189688
END:VEVENT
END:VCALENDAR
