BEGIN:VCALENDAR
VERSION:2.0
PRODID:-//demosphere.net//NONSGML kigkonsult.se iCalcreator 2.22.1//
METHOD:REQUEST
X-WR-TIMEZONE:Europe/Athens
BEGIN:VEVENT
UID:https://safe.kinimatorama.net/event/189689
DTSTAMP:20260421T150000Z
DESCRIPTION:περισσότερες πληροφορίες: https://safe.kinimatorama.net/event/1
 89689 
DTSTART:20260421T150000Z
DTEND:20260421T160000Z
GEO:+40.63168;+22.955517
LOCATION:Θεσσαλονίκη\, \nΑυτόνομο στέκι φιλοσοφικής \n(νέο κτήριο φιλοσοφικ
 ής ΑΠΘ\, \nδίπλα από το αμφιθέατρο Β)
SUMMARY:Ανοιχτή συνέλευση της Αναρχικής συνέλευσης φοιτητών/τριων Quieta Mo
 vere
URL:https://safe.kinimatorama.net/event/189689
END:VEVENT
END:VCALENDAR
