BEGIN:VCALENDAR
VERSION:2.0
PRODID:-//demosphere.net//NONSGML kigkonsult.se iCalcreator 2.22.1//
METHOD:REQUEST
X-WR-TIMEZONE:Europe/Athens
BEGIN:VEVENT
UID:https://safe.kinimatorama.net/event/189692
DTSTAMP:20260426T110000Z
DESCRIPTION:περισσότερες πληροφορίες: https://safe.kinimatorama.net/event/1
 89692 
DTSTART:20260426T110000Z
DTEND:20260426T120000Z
GEO:+38.239025;+21.725307
LOCATION:Πάτρα\, \nΝότιο Πάρκο
SUMMARY:Vegan Ρεφενέ & Jam
URL:https://safe.kinimatorama.net/event/189692
END:VEVENT
END:VCALENDAR
