BEGIN:VCALENDAR
VERSION:2.0
PRODID:-//demosphere.net//NONSGML kigkonsult.se iCalcreator 2.22.1//
METHOD:REQUEST
X-WR-TIMEZONE:Europe/Athens
BEGIN:VEVENT
UID:https://safe.kinimatorama.net/event/189693
DTSTAMP:20260426T150000Z
DESCRIPTION:περισσότερες πληροφορίες: https://safe.kinimatorama.net/event/1
 89693 
DTSTART:20260426T150000Z
DTEND:20260426T160000Z
GEO:+37.994854;+23.740732
LOCATION:Αθήνα\, \nΠλατεία Πρωτομαγιάς \nΠεδίον του Άρεως
SUMMARY:Ανοιχτή Συνέλευση Αλληλεγγύης στους Γ.Καρατσώλη και Σ.Τουτζιαράκη
URL:https://safe.kinimatorama.net/event/189693
END:VEVENT
END:VCALENDAR
