BEGIN:VCALENDAR
VERSION:2.0
PRODID:-//demosphere.net//NONSGML kigkonsult.se iCalcreator 2.22.1//
METHOD:REQUEST
X-WR-TIMEZONE:Europe/Athens
BEGIN:VEVENT
UID:https://safe.kinimatorama.net/event/189695
DTSTAMP:20260424T170000Z
DESCRIPTION:περισσότερες πληροφορίες: https://safe.kinimatorama.net/event/1
 89695 
DTSTART:20260424T170000Z
DTEND:20260424T180000Z
GEO:+37.990723;+23.735403
LOCATION:Αθήνα\, \nin situ \nΑντιεξουσιαστικός Κομμουνιστικός Χώρος \nΣπύρο
 υ Τρικούπη 71 \nΕξάρχεια \n(Πλησίον σταθμού ΒΙΚΤΩΡΙΑ)
SUMMARY:Προβολή της ταινίας Rosa Luxemburg (1986) της Μargarethe von Τrotta
URL:https://safe.kinimatorama.net/event/189695
END:VEVENT
END:VCALENDAR
