BEGIN:VCALENDAR
VERSION:2.0
PRODID:-//demosphere.net//NONSGML kigkonsult.se iCalcreator 2.22.1//
METHOD:REQUEST
X-WR-TIMEZONE:Europe/Athens
BEGIN:VEVENT
UID:https://safe.kinimatorama.net/event/189696
DTSTAMP:20260529T160000Z
DESCRIPTION:περισσότερες πληροφορίες: https://safe.kinimatorama.net/event/1
 89696 
DTSTART:20260529T160000Z
DTEND:20260529T170000Z
GEO:+40.616656;+22.964462
LOCATION:Θεσσαλονίκη\, \nΚατάληψη Φάμπρικα Υφανέτ \nΟμήρου και Περδίκα\, Κά
 τω Τούμπα \nλεωφορεία από κέντρο: \n12 (στάση Υφανέτ) \n2\,58 (Θεαγένειο)
SUMMARY:Φεστιβάλ γενεθλίων για τα 22 χρόνια της κατάληψης Φάμπρικα Υφανέτ
URL:https://safe.kinimatorama.net/event/189696
END:VEVENT
END:VCALENDAR
