BEGIN:VCALENDAR
VERSION:2.0
PRODID:-//demosphere.net//NONSGML kigkonsult.se iCalcreator 2.22.1//
METHOD:REQUEST
X-WR-TIMEZONE:Europe/Athens
BEGIN:VEVENT
UID:https://safe.kinimatorama.net/event/189702
DTSTAMP:20260421T153000Z
DESCRIPTION:περισσότερες πληροφορίες: https://safe.kinimatorama.net/event/1
 89702 
DTSTART:20260421T153000Z
DTEND:20260421T163000Z
GEO:+37.989138;+23.754974
LOCATION:Αθήνα\, \n6ο μπλοκ Προσφυγικών \nΤριχωνίδος & Κούζη \nΑμπελόκηποι 
 \n(πλησίον σταθμού Μετρό ΑΜΠΕΛΟΚΗΠΟΙ)
SUMMARY:Ανοιχτή συνέλευση για την υπόθεση βασανισμού του Β. Μάγγου
URL:https://safe.kinimatorama.net/event/189702
END:VEVENT
END:VCALENDAR
