BEGIN:VCALENDAR
VERSION:2.0
PRODID:-//demosphere.net//NONSGML kigkonsult.se iCalcreator 2.22.1//
METHOD:REQUEST
X-WR-TIMEZONE:Europe/Athens
BEGIN:VEVENT
UID:https://safe.kinimatorama.net/event/189707
DTSTAMP:20260426T073000Z
DESCRIPTION:περισσότερες πληροφορίες: https://safe.kinimatorama.net/event/1
 89707 
DTSTART:20260426T073000Z
DTEND:20260426T083000Z
GEO:+38.249081;+21.735028
LOCATION:Πάτρα\, \nΠλατεία Τριών Συμμάχων
SUMMARY:Αναχώρηση με πούλμαν για την αντιπολεμική/ αντι-ιμπεριαλιστική διαδ
 ήλωση
URL:https://safe.kinimatorama.net/event/189707
END:VEVENT
END:VCALENDAR
